BEGIN:VCALENDAR
VERSION:2.0
PRODID:-//Feuerwehr Forchheim - ECPv6.15.20//NONSGML v1.0//EN
CALSCALE:GREGORIAN
METHOD:PUBLISH
X-WR-CALNAME:Feuerwehr Forchheim
X-ORIGINAL-URL:https://112forchheim.de
X-WR-CALDESC:Veranstaltungen für Feuerwehr Forchheim
REFRESH-INTERVAL;VALUE=DURATION:PT1H
X-Robots-Tag:noindex
X-PUBLISHED-TTL:PT1H
BEGIN:VTIMEZONE
TZID:Europe/Berlin
BEGIN:DAYLIGHT
TZOFFSETFROM:+0100
TZOFFSETTO:+0200
TZNAME:CEST
DTSTART:20230326T010000
END:DAYLIGHT
BEGIN:STANDARD
TZOFFSETFROM:+0200
TZOFFSETTO:+0100
TZNAME:CET
DTSTART:20231029T010000
END:STANDARD
BEGIN:DAYLIGHT
TZOFFSETFROM:+0100
TZOFFSETTO:+0200
TZNAME:CEST
DTSTART:20240331T010000
END:DAYLIGHT
BEGIN:STANDARD
TZOFFSETFROM:+0200
TZOFFSETTO:+0100
TZNAME:CET
DTSTART:20241027T010000
END:STANDARD
BEGIN:DAYLIGHT
TZOFFSETFROM:+0100
TZOFFSETTO:+0200
TZNAME:CEST
DTSTART:20250330T010000
END:DAYLIGHT
BEGIN:STANDARD
TZOFFSETFROM:+0200
TZOFFSETTO:+0100
TZNAME:CET
DTSTART:20251026T010000
END:STANDARD
END:VTIMEZONE
BEGIN:VEVENT
DTSTART;TZID=Europe/Berlin:20241111T170000
DTEND;TZID=Europe/Berlin:20241111T210000
DTSTAMP:20260423T100007
CREATED:20241102T221826Z
LAST-MODIFIED:20241102T221826Z
UID:1517-1731344400-1731358800@112forchheim.de
SUMMARY:Martinstag 11.11.2024
DESCRIPTION:
URL:https://112forchheim.de/event/martinstag-11-11-2024/
LOCATION:Forchheim am Gerätehaus
ATTACH;FMTTYPE=image/jpeg:https://112forchheim.de/wp-content/uploads/2024/11/Martinstag.jpg
END:VEVENT
END:VCALENDAR